Package: koinar Version: 1.0.2 Command: rm -rf koinar.buildbin-libdir && mkdir koinar.buildbin-libdir && F:\biocbuild\bbs-3.20-bioc\R\bin\R.exe CMD INSTALL --build --library=koinar.buildbin-libdir koinar_1.0.2.tar.gz StartedAt: 2025-04-01 08:29:16 -0400 (Tue, 01 Apr 2025) EndedAt: 2025-04-01 08:29:33 -0400 (Tue, 01 Apr 2025) EllapsedTime: 16.6 seconds RetCode: 0 Status: OK PackageFile: koinar_1.0.2.zip PackageFileSize: 806.9 KiB