Package: koinar Version: 1.0.2 Command: /home/biocbuild/bbs-3.20-bioc/R/bin/R CMD build --keep-empty-dirs --no-resave-data --md5 koinar StartedAt: 2025-02-03 17:58:51 -0500 (Mon, 03 Feb 2025) EndedAt: 2025-02-03 17:59:20 -0500 (Mon, 03 Feb 2025) EllapsedTime: 29.0 seconds RetCode: 0 Status: OK PackageFile: koinar_1.0.2.tar.gz PackageFileSize: 1.357 MiB