Package: kmcut Version: 1.0.0 Command: /home/biocbuild/R/R/bin/R CMD INSTALL kmcut StartedAt: 2025-02-03 21:08:18 -0000 (Mon, 03 Feb 2025) EndedAt: 2025-02-03 21:08:43 -0000 (Mon, 03 Feb 2025) EllapsedTime: 25.4 seconds RetCode: 0 Status: OK