Package: kmcut Version: 1.0.0 Command: /home/biocbuild/R/R/bin/R CMD build --keep-empty-dirs --no-resave-data kmcut StartedAt: 2025-02-04 00:32:31 -0000 (Tue, 04 Feb 2025) EndedAt: 2025-02-04 00:33:19 -0000 (Tue, 04 Feb 2025) EllapsedTime: 48.0 seconds RetCode: 0 Status: OK PackageFile: kmcut_1.0.0.tar.gz PackageFileSize: 713.7 KiB