Package: keggorthology Version: 2.58.0 Command: F:\biocbuild\bbs-3.20-bioc\R\bin\R.exe CMD INSTALL keggorthology StartedAt: 2025-03-31 15:58:28 -0400 (Mon, 31 Mar 2025) EndedAt: 2025-03-31 15:58:52 -0400 (Mon, 31 Mar 2025) EllapsedTime: 24.4 seconds RetCode: 0 Status: OK