Package: kebabs Version: 1.40.0 Command: rm -rf kebabs.buildbin-libdir && mkdir kebabs.buildbin-libdir && F:\biocbuild\bbs-3.20-bioc\R\bin\R.exe CMD INSTALL --build --library=kebabs.buildbin-libdir kebabs_1.40.0.tar.gz StartedAt: 2025-01-28 08:25:13 -0500 (Tue, 28 Jan 2025) EndedAt: 2025-01-28 08:28:43 -0500 (Tue, 28 Jan 2025) EllapsedTime: 210.3 seconds RetCode: 0 Status: OK PackageFile: kebabs_1.40.0.zip PackageFileSize: 3.894 MiB