Package: kebabs Version: 1.40.0 Command: /Library/Frameworks/R.framework/Resources/bin/R CMD build --keep-empty-dirs --no-resave-data kebabs StartedAt: 2025-02-03 19:53:11 -0500 (Mon, 03 Feb 2025) EndedAt: 2025-02-03 20:00:51 -0500 (Mon, 03 Feb 2025) EllapsedTime: 459.8 seconds RetCode: 0 Status: OK PackageFile: kebabs_1.40.0.tar.gz PackageFileSize: 2.259 MiB