Package: katdetectr Version: 1.8.0 Command: /home/biocbuild/R/R/bin/R CMD INSTALL katdetectr StartedAt: 2025-03-31 20:58:43 -0000 (Mon, 31 Mar 2025) EndedAt: 2025-03-31 20:59:32 -0000 (Mon, 31 Mar 2025) EllapsedTime: 48.7 seconds RetCode: 0 Status: OK