Package: katdetectr Version: 1.8.0 Command: /home/biocbuild/R/R/bin/R CMD build --keep-empty-dirs --no-resave-data katdetectr StartedAt: 2025-01-31 00:30:35 -0000 (Fri, 31 Jan 2025) EndedAt: 2025-01-31 00:32:17 -0000 (Fri, 31 Jan 2025) EllapsedTime: 102.0 seconds RetCode: 0 Status: OK PackageFile: katdetectr_1.8.0.tar.gz PackageFileSize: 770.9 KiB