Package: katdetectr Version: 1.8.0 Command: /Library/Frameworks/R.framework/Resources/bin/R CMD check --install=check:katdetectr.install-out.txt --library=/Library/Frameworks/R.framework/Resources/library --no-vignettes --timings katdetectr_1.8.0.tar.gz StartedAt: 2025-04-01 22:59:46 -0400 (Tue, 01 Apr 2025) EndedAt: 2025-04-01 23:05:16 -0400 (Tue, 01 Apr 2025) EllapsedTime: 329.2 seconds RetCode: 0 Status: OK CheckDir: katdetectr.Rcheck Warnings: 0