Package: karyoploteR Version: 1.32.0 Command: /home/biocbuild/R/R/bin/R CMD check --install=check:karyoploteR.install-out.txt --library=/home/biocbuild/R/R/site-library --no-vignettes --timings karyoploteR_1.32.0.tar.gz StartedAt: 2025-01-31 07:32:13 -0000 (Fri, 31 Jan 2025) EndedAt: 2025-01-31 07:42:07 -0000 (Fri, 31 Jan 2025) EllapsedTime: 594.0 seconds RetCode: 0 Status: OK CheckDir: karyoploteR.Rcheck Warnings: 0