Package: karyoploteR Version: 1.32.0 Command: /Library/Frameworks/R.framework/Resources/bin/R CMD INSTALL karyoploteR StartedAt: 2025-03-31 15:55:18 -0400 (Mon, 31 Mar 2025) EndedAt: 2025-03-31 15:57:06 -0400 (Mon, 31 Mar 2025) EllapsedTime: 108.2 seconds RetCode: 0 Status: OK