Package: karyoploteR Version: 1.32.0 Command: /Library/Frameworks/R.framework/Resources/bin/R CMD check --install=check:karyoploteR.install-out.txt --library=/Library/Frameworks/R.framework/Resources/library --no-vignettes --timings karyoploteR_1.32.0.tar.gz StartedAt: 2025-04-01 04:47:55 -0400 (Tue, 01 Apr 2025) EndedAt: 2025-04-01 05:05:26 -0400 (Tue, 01 Apr 2025) EllapsedTime: 1050.5 seconds RetCode: 0 Status: OK CheckDir: karyoploteR.Rcheck Warnings: 0