Package: iterativeBMAsurv Version: 1.64.0 Command: /home/biocbuild/R/R/bin/R CMD build --keep-empty-dirs --no-resave-data iterativeBMAsurv StartedAt: 2025-04-01 00:23:27 -0000 (Tue, 01 Apr 2025) EndedAt: 2025-04-01 00:23:49 -0000 (Tue, 01 Apr 2025) EllapsedTime: 22.0 seconds RetCode: 0 Status: OK PackageFile: iterativeBMAsurv_1.64.0.tar.gz PackageFileSize: 192.1 KiB