Package: iterativeBMAsurv Version: 1.64.0 Command: F:\biocbuild\bbs-3.20-bioc\R\bin\R.exe CMD INSTALL iterativeBMAsurv StartedAt: 2025-02-10 16:35:09 -0500 (Mon, 10 Feb 2025) EndedAt: 2025-02-10 16:35:54 -0500 (Mon, 10 Feb 2025) EllapsedTime: 45.4 seconds RetCode: 0 Status: OK