Package: iterativeBMAsurv Version: 1.64.0 Command: rm -rf iterativeBMAsurv.buildbin-libdir && mkdir iterativeBMAsurv.buildbin-libdir && F:\biocbuild\bbs-3.20-bioc\R\bin\R.exe CMD INSTALL --build --library=iterativeBMAsurv.buildbin-libdir iterativeBMAsurv_1.64.0.tar.gz StartedAt: 2025-02-11 08:43:31 -0500 (Tue, 11 Feb 2025) EndedAt: 2025-02-11 08:43:55 -0500 (Tue, 11 Feb 2025) EllapsedTime: 23.6 seconds RetCode: 0 Status: OK PackageFile: iterativeBMAsurv_1.64.0.zip PackageFileSize: 281.5 KiB