Package: iterativeBMAsurv Version: 1.64.0 Command: /Library/Frameworks/R.framework/Resources/bin/R CMD INSTALL iterativeBMAsurv StartedAt: 2025-03-31 17:06:52 -0400 (Mon, 31 Mar 2025) EndedAt: 2025-03-31 17:06:59 -0400 (Mon, 31 Mar 2025) EllapsedTime: 7.0 seconds RetCode: 0 Status: OK