Package: iterativeBMA Version: 1.64.0 Command: /home/biocbuild/R/R/bin/R CMD build --keep-empty-dirs --no-resave-data iterativeBMA StartedAt: 2025-02-11 00:20:29 -0000 (Tue, 11 Feb 2025) EndedAt: 2025-02-11 00:20:47 -0000 (Tue, 11 Feb 2025) EllapsedTime: 18.0 seconds RetCode: 0 Status: OK PackageFile: iterativeBMA_1.64.0.tar.gz PackageFileSize: 153.8 KiB