Package: iterativeBMA Version: 1.64.0 Command: chmod a+r iterativeBMA -R && F:\biocbuild\bbs-3.20-bioc\R\bin\R.exe CMD build --keep-empty-dirs --no-resave-data iterativeBMA StartedAt: 2025-02-03 19:58:39 -0500 (Mon, 03 Feb 2025) EndedAt: 2025-02-03 19:59:18 -0500 (Mon, 03 Feb 2025) EllapsedTime: 39.0 seconds RetCode: 0 Status: OK PackageFile: iterativeBMA_1.64.0.tar.gz PackageFileSize: 159.8 KiB