Package: iterativeBMA Version: 1.64.0 Command: /home/biocbuild/bbs-3.20-bioc/R/bin/R CMD INSTALL iterativeBMA StartedAt: 2025-02-10 15:46:13 -0500 (Mon, 10 Feb 2025) EndedAt: 2025-02-10 15:46:20 -0500 (Mon, 10 Feb 2025) EllapsedTime: 6.6 seconds RetCode: 0 Status: OK