Package: iterativeBMA Version: 1.64.0 Command: /Library/Frameworks/R.framework/Resources/bin/R CMD build --keep-empty-dirs --no-resave-data iterativeBMA StartedAt: 2025-02-03 19:52:00 -0500 (Mon, 03 Feb 2025) EndedAt: 2025-02-03 19:52:39 -0500 (Mon, 03 Feb 2025) EllapsedTime: 38.8 seconds RetCode: 0 Status: OK PackageFile: iterativeBMA_1.64.0.tar.gz PackageFileSize: 158.9 KiB