Package: iterativeBMA Version: 1.64.0 Command: /Library/Frameworks/R.framework/Resources/bin/R CMD check --install=check:iterativeBMA.install-out.txt --library=/Library/Frameworks/R.framework/Resources/library --no-vignettes --timings iterativeBMA_1.64.0.tar.gz StartedAt: 2025-02-04 23:36:47 -0500 (Tue, 04 Feb 2025) EndedAt: 2025-02-04 23:37:43 -0500 (Tue, 04 Feb 2025) EllapsedTime: 56.5 seconds RetCode: 0 Status: OK CheckDir: iterativeBMA.Rcheck Warnings: 0