Package: iterativeBMA Version: 1.64.0 Command: /Library/Frameworks/R.framework/Resources/bin/R CMD build --keep-empty-dirs --no-resave-data iterativeBMA StartedAt: 2025-02-11 02:12:18 -0500 (Tue, 11 Feb 2025) EndedAt: 2025-02-11 02:12:42 -0500 (Tue, 11 Feb 2025) EllapsedTime: 23.7 seconds RetCode: 0 Status: OK PackageFile: iterativeBMA_1.64.0.tar.gz PackageFileSize: 158.9 KiB