Package: isomiRs Version: 1.34.0 Command: /Library/Frameworks/R.framework/Resources/bin/R CMD INSTALL isomiRs StartedAt: 2025-03-31 16:31:00 -0400 (Mon, 31 Mar 2025) EndedAt: 2025-03-31 16:31:31 -0400 (Mon, 31 Mar 2025) EllapsedTime: 30.3 seconds RetCode: 0 Status: OK