Package: isomiRs Version: 1.34.0 Command: /Library/Frameworks/R.framework/Resources/bin/R CMD check --install=check:isomiRs.install-out.txt --library=/Library/Frameworks/R.framework/Resources/library --no-vignettes --timings isomiRs_1.34.0.tar.gz StartedAt: 2025-01-28 22:56:48 -0500 (Tue, 28 Jan 2025) EndedAt: 2025-01-28 23:02:08 -0500 (Tue, 28 Jan 2025) EllapsedTime: 320.2 seconds RetCode: 0 Status: OK CheckDir: isomiRs.Rcheck Warnings: 0