Package: interactiveDisplayBase Version: 1.44.0 Command: F:\biocbuild\bbs-3.20-bioc\R\bin\R.exe CMD INSTALL interactiveDisplayBase StartedAt: 2025-01-27 17:07:01 -0500 (Mon, 27 Jan 2025) EndedAt: 2025-01-27 17:07:37 -0500 (Mon, 27 Jan 2025) EllapsedTime: 36.4 seconds RetCode: 0 Status: OK