Package: interactiveDisplayBase Version: 1.44.0 Command: /Library/Frameworks/R.framework/Resources/bin/R CMD INSTALL interactiveDisplayBase StartedAt: 2025-03-31 16:42:05 -0400 (Mon, 31 Mar 2025) EndedAt: 2025-03-31 16:42:12 -0400 (Mon, 31 Mar 2025) EllapsedTime: 7.6 seconds RetCode: 0 Status: OK