Package: interactiveDisplayBase Version: 1.44.0 Command: /Library/Frameworks/R.framework/Resources/bin/R CMD check --install=check:interactiveDisplayBase.install-out.txt --library=/Library/Frameworks/R.framework/Resources/library --no-vignettes --timings interactiveDisplayBase_1.44.0.tar.gz StartedAt: 2025-04-01 04:34:19 -0400 (Tue, 01 Apr 2025) EndedAt: 2025-04-01 04:35:22 -0400 (Tue, 01 Apr 2025) EllapsedTime: 63.1 seconds RetCode: 0 Status: OK CheckDir: interactiveDisplayBase.Rcheck Warnings: 0