Package: interactiveDisplayBase Version: 1.44.0 Command: /Library/Frameworks/R.framework/Resources/bin/R CMD build --keep-empty-dirs --no-resave-data interactiveDisplayBase StartedAt: 2025-04-01 01:44:57 -0400 (Tue, 01 Apr 2025) EndedAt: 2025-04-01 01:45:04 -0400 (Tue, 01 Apr 2025) EllapsedTime: 7.8 seconds RetCode: 0 Status: OK PackageFile: interactiveDisplayBase_1.44.0.tar.gz PackageFileSize: 7.957 KiB