Package: interactiveDisplay Version: 1.44.0 Command: /home/biocbuild/R/R/bin/R CMD build --keep-empty-dirs --no-resave-data interactiveDisplay StartedAt: 2025-02-04 00:25:44 -0000 (Tue, 04 Feb 2025) EndedAt: 2025-02-04 00:26:46 -0000 (Tue, 04 Feb 2025) EllapsedTime: 62.0 seconds RetCode: 0 Status: OK PackageFile: interactiveDisplay_1.44.0.tar.gz PackageFileSize: 4.564 MiB