Package: interactiveDisplay Version: 1.44.0 Command: /Library/Frameworks/R.framework/Resources/bin/R CMD build --keep-empty-dirs --no-resave-data interactiveDisplay StartedAt: 2025-01-27 19:52:17 -0500 (Mon, 27 Jan 2025) EndedAt: 2025-01-27 19:54:29 -0500 (Mon, 27 Jan 2025) EllapsedTime: 132.3 seconds RetCode: 0 Status: OK PackageFile: interactiveDisplay_1.44.0.tar.gz PackageFileSize: 4.567 MiB