Package: interactiveDisplay Version: 1.44.0 Command: rm -rf interactiveDisplay.buildbin-libdir && mkdir interactiveDisplay.buildbin-libdir && /Users/biocbuild/BBS/utils/build-universal.sh interactiveDisplay_1.44.0.tar.gz /Library/Frameworks/R.framework/Resources/bin/R interactiveDisplay.buildbin-libdir StartedAt: 2025-01-29 15:07:04 -0500 (Wed, 29 Jan 2025) EndedAt: 2025-01-29 15:07:34 -0500 (Wed, 29 Jan 2025) EllapsedTime: 30.4 seconds RetCode: 0 Status: OK PackageFile: interactiveDisplay_1.44.0.tgz PackageFileSize: 2.479 MiB