Package: intansv Version: 1.46.0 Command: /home/biocbuild/R/R/bin/R CMD check --install=check:intansv.install-out.txt --library=/home/biocbuild/R/R/site-library --no-vignettes --timings intansv_1.46.0.tar.gz StartedAt: 2025-02-04 08:03:52 -0000 (Tue, 04 Feb 2025) EndedAt: 2025-02-04 08:11:05 -0000 (Tue, 04 Feb 2025) EllapsedTime: 433.4 seconds RetCode: 0 Status: OK CheckDir: intansv.Rcheck Warnings: 0