Package: intansv Version: 1.46.0 Command: /home/biocbuild/bbs-3.20-bioc/R/bin/R CMD INSTALL intansv StartedAt: 2025-01-27 16:29:43 -0500 (Mon, 27 Jan 2025) EndedAt: 2025-01-27 16:30:48 -0500 (Mon, 27 Jan 2025) EllapsedTime: 64.9 seconds RetCode: 0 Status: OK