Package: intansv Version: 1.46.0 Command: /Library/Frameworks/R.framework/Resources/bin/R CMD INSTALL intansv StartedAt: 2025-02-03 16:08:51 -0500 (Mon, 03 Feb 2025) EndedAt: 2025-02-03 16:10:36 -0500 (Mon, 03 Feb 2025) EllapsedTime: 104.9 seconds RetCode: 0 Status: OK