Package: intansv Version: 1.46.0 Command: /Library/Frameworks/R.framework/Resources/bin/R CMD check --install=check:intansv.install-out.txt --library=/Library/Frameworks/R.framework/Resources/library --no-vignettes --timings intansv_1.46.0.tar.gz StartedAt: 2025-01-28 05:24:06 -0500 (Tue, 28 Jan 2025) EndedAt: 2025-01-28 05:37:37 -0500 (Tue, 28 Jan 2025) EllapsedTime: 811.2 seconds RetCode: 0 Status: OK CheckDir: intansv.Rcheck Warnings: 0