Package: intansv Version: 1.46.0 Command: rm -rf intansv.buildbin-libdir && mkdir intansv.buildbin-libdir && /Users/biocbuild/BBS/utils/build-universal.sh intansv_1.46.0.tar.gz /Library/Frameworks/R.framework/Resources/bin/R intansv.buildbin-libdir StartedAt: 2025-02-04 13:11:36 -0500 (Tue, 04 Feb 2025) EndedAt: 2025-02-04 13:14:06 -0500 (Tue, 04 Feb 2025) EllapsedTime: 149.3 seconds RetCode: 0 Status: OK PackageFile: intansv_1.46.0.tgz PackageFileSize: 709.3 KiB