Package: intansv Version: 1.46.0 Command: /Library/Frameworks/R.framework/Resources/bin/R CMD INSTALL intansv StartedAt: 2025-03-31 16:51:45 -0400 (Mon, 31 Mar 2025) EndedAt: 2025-03-31 16:52:46 -0400 (Mon, 31 Mar 2025) EllapsedTime: 60.8 seconds RetCode: 0 Status: OK