Package: infinityFlow Version: 1.16.0 Command: /home/biocbuild/R/R/bin/R CMD INSTALL infinityFlow StartedAt: 2025-02-03 20:33:32 -0000 (Mon, 03 Feb 2025) EndedAt: 2025-02-03 20:33:32 -0000 (Mon, 03 Feb 2025) EllapsedTime: 0.7 seconds RetCode: 1 Status: ERROR