Package: infercnv Version: 1.22.0 Command: chmod a+r infercnv -R && F:\biocbuild\bbs-3.20-bioc\R\bin\R.exe CMD build --keep-empty-dirs --no-resave-data infercnv StartedAt: 2025-03-31 19:41:09 -0400 (Mon, 31 Mar 2025) EndedAt: 2025-03-31 19:41:39 -0400 (Mon, 31 Mar 2025) EllapsedTime: 30.2 seconds RetCode: 1 Status: ERROR PackageFile: None PackageFileSize: NA