Package: impute Version: 1.80.0 Command: F:\biocbuild\bbs-3.20-bioc\R\bin\R.exe CMD INSTALL impute StartedAt: 2025-01-27 15:25:41 -0500 (Mon, 27 Jan 2025) EndedAt: 2025-01-27 15:25:55 -0500 (Mon, 27 Jan 2025) EllapsedTime: 14.9 seconds RetCode: 0 Status: OK