Package: impute Version: 1.80.0 Command: rm -rf impute.buildbin-libdir && mkdir impute.buildbin-libdir && F:\biocbuild\bbs-3.20-bioc\R\bin\R.exe CMD INSTALL --build --library=impute.buildbin-libdir impute_1.80.0.tar.gz StartedAt: 2025-01-28 08:22:26 -0500 (Tue, 28 Jan 2025) EndedAt: 2025-01-28 08:22:35 -0500 (Tue, 28 Jan 2025) EllapsedTime: 8.8 seconds RetCode: 0 Status: OK PackageFile: impute_1.80.0.zip PackageFileSize: 652.2 KiB