Package: impute Version: 1.80.0 Command: /Library/Frameworks/R.framework/Resources/bin/R CMD build --keep-empty-dirs --no-resave-data impute StartedAt: 2025-01-30 20:00:58 -0500 (Thu, 30 Jan 2025) EndedAt: 2025-01-30 20:01:07 -0500 (Thu, 30 Jan 2025) EllapsedTime: 8.5 seconds RetCode: 0 Status: OK PackageFile: impute_1.80.0.tar.gz PackageFileSize: 626.6 KiB