Package: impute Version: 1.80.0 Command: rm -rf impute.buildbin-libdir && mkdir impute.buildbin-libdir && /Users/biocbuild/BBS/utils/build-universal.sh impute_1.80.0.tar.gz /Library/Frameworks/R.framework/Resources/bin/R impute.buildbin-libdir StartedAt: 2025-04-02 14:48:01 -0400 (Wed, 02 Apr 2025) EndedAt: 2025-04-02 14:48:06 -0400 (Wed, 02 Apr 2025) EllapsedTime: 4.6 seconds RetCode: 0 Status: OK PackageFile: impute_1.80.0.tgz PackageFileSize: 646.5 KiB