Package: immunotation Version: 1.14.0 Command: /Library/Frameworks/R.framework/Resources/bin/R CMD check --install=check:immunotation.install-out.txt --library=/Library/Frameworks/R.framework/Resources/library --no-vignettes --timings immunotation_1.14.0.tar.gz StartedAt: 2024-11-19 23:10:24 -0500 (Tue, 19 Nov 2024) EndedAt: 2024-11-19 23:23:00 -0500 (Tue, 19 Nov 2024) EllapsedTime: 755.9 seconds RetCode: 0 Status: OK CheckDir: immunotation.Rcheck Warnings: 0