Package: immunogenViewer Version: 1.0.0 Command: F:\biocbuild\bbs-3.20-bioc\R\bin\R.exe CMD INSTALL immunogenViewer StartedAt: 2025-01-27 16:01:54 -0500 (Mon, 27 Jan 2025) EndedAt: 2025-01-27 16:02:25 -0500 (Mon, 27 Jan 2025) EllapsedTime: 31.3 seconds RetCode: 0 Status: OK