Package: immunogenViewer Version: 1.0.0 Command: /Library/Frameworks/R.framework/Resources/bin/R CMD INSTALL immunogenViewer StartedAt: 2025-01-27 16:04:49 -0500 (Mon, 27 Jan 2025) EndedAt: 2025-01-27 16:05:07 -0500 (Mon, 27 Jan 2025) EllapsedTime: 17.6 seconds RetCode: 0 Status: OK