Package: immunogenViewer Version: 1.0.0 Command: /Library/Frameworks/R.framework/Resources/bin/R CMD check --install=check:immunogenViewer.install-out.txt --library=/Library/Frameworks/R.framework/Resources/library --no-vignettes --timings immunogenViewer_1.0.0.tar.gz StartedAt: 2025-04-01 22:21:22 -0400 (Tue, 01 Apr 2025) EndedAt: 2025-04-01 22:23:37 -0400 (Tue, 01 Apr 2025) EllapsedTime: 134.8 seconds RetCode: 0 Status: OK CheckDir: immunogenViewer.Rcheck Warnings: 0