Package: immunogenViewer Version: 1.0.0 Command: rm -rf immunogenViewer.buildbin-libdir && mkdir immunogenViewer.buildbin-libdir && /Users/biocbuild/BBS/utils/build-universal.sh immunogenViewer_1.0.0.tar.gz /Library/Frameworks/R.framework/Resources/bin/R immunogenViewer.buildbin-libdir StartedAt: 2025-04-02 14:47:43 -0400 (Wed, 02 Apr 2025) EndedAt: 2025-04-02 14:48:01 -0400 (Wed, 02 Apr 2025) EllapsedTime: 18.1 seconds RetCode: 0 Status: OK PackageFile: immunogenViewer_1.0.0.tgz PackageFileSize: 669.3 KiB