Package: immunoClust Version: 1.38.0 Command: /home/biocbuild/R/R/bin/R CMD INSTALL immunoClust StartedAt: 2025-01-27 21:14:37 -0000 (Mon, 27 Jan 2025) EndedAt: 2025-01-27 21:15:11 -0000 (Mon, 27 Jan 2025) EllapsedTime: 34.2 seconds RetCode: 0 Status: OK